BEGIN:VCALENDAR
VERSION:2.0
PRODID:-//wp-events-plugin.com//7.2.3.1//EN
TZID:Europe/Berlin
X-WR-TIMEZONE:Europe/Berlin
BEGIN:VEVENT
UID:2@wir-in-bookholzberg.de
DTSTART;TZID=Europe/Berlin:20190428T110000
DTEND;TZID=Europe/Berlin:20190428T160000
DTSTAMP:20181226T151816Z
URL:https://wir-in-bookholzberg.de/events/13-bookholzberger-fruehlingsmark
 t/
SUMMARY:13. Bookholzberger Frühlingsmarkt
DESCRIPTION:
LOCATION:Ortskern Bookholzberg\, Stedinger Straße\, Bookholzberg\, 27777\,
  Deutschland
X-APPLE-STRUCTURED-LOCATION;VALUE=URI;X-ADDRESS=Stedinger Straße\, Bookhol
 zberg\, 27777\, Deutschland;X-APPLE-RADIUS=100;X-TITLE=Ortskern Bookholzbe
 rg:geo:0,0
END:VEVENT
BEGIN:VEVENT
UID:1@wir-in-bookholzberg.de
DTSTART;TZID=Europe/Berlin;VALUE=DATE:20191214
DTEND;TZID=Europe/Berlin;VALUE=DATE:20191216
DTSTAMP:20190922T075658Z
URL:https://wir-in-bookholzberg.de/events/bookholzberger-weihnachtsmarkt/
SUMMARY:7. Bookholzberger Weihnachtsmarkt
DESCRIPTION:Samstag 16:00 Uhr bis 20:30 Uhr\nSonntag 12:00 Uhr bis 19:00 Uh
 r
LOCATION:Kirchplatz Bookholzberg\, Stedinger Straße\, Bookholzberg\, 27777
 \, Deutschland
X-APPLE-STRUCTURED-LOCATION;VALUE=URI;X-ADDRESS=Stedinger Straße\, Bookhol
 zberg\, 27777\, Deutschland;X-APPLE-RADIUS=100;X-TITLE=Kirchplatz Bookholz
 berg:geo:0,0
END:VEVENT
BEGIN:VEVENT
UID:4@wir-in-bookholzberg.de
DTSTART;TZID=Europe/Berlin:20240616T110000
DTEND;TZID=Europe/Berlin:20240616T160000
DTSTAMP:20240611T151046Z
URL:https://wir-in-bookholzberg.de/events/1-bookholzberger-sommermarkt/
SUMMARY:1. Bookholzberger Sommermarkt
DESCRIPTION:\n\nDie Anmeldungen können per Download auf\ndem PC bearbeitet
  und dann per E-Mail an\ninfo@wir-in-Bookholzberg\ngeschickt werden. Hier 
 noch ein wichtiger\nHinweis: für Vereine und non-Profit-Aus-\nsteller ent
 fällt die Standbetreibergebühr.\n\nDer Aufbau der Standbetreiber ist Sam
 stag ab 15:00 möglich.\nWenden Sie sich hierzu an unser Organisationsteam
 .\n\nDer Aufbau der Flohmarktstände sollte am Sonntag bis 8:00 erfolgt se
 in\,\num die Fahrzeuge dann aus der Veranstaltungsfläche entfernt zu habe
 n.\nWenden Sie sich hierzu an unser Organisationsteam.\n\nAnmeldung_Standb
 etreiber\n\nAnmeldung_Flohmarkt
END:VEVENT
BEGIN:VTIMEZONE
TZID:Europe/Berlin
X-LIC-LOCATION:Europe/Berlin
BEGIN:DAYLIGHT
DTSTART:20190331T030000
TZOFFSETFROM:+0100
TZOFFSETTO:+0200
TZNAME:CEST
END:DAYLIGHT
BEGIN:STANDARD
DTSTART:20191027T020000
TZOFFSETFROM:+0200
TZOFFSETTO:+0100
TZNAME:CET
END:STANDARD
BEGIN:DAYLIGHT
DTSTART:20200329T030000
TZOFFSETFROM:+0100
TZOFFSETTO:+0200
TZNAME:CEST
END:DAYLIGHT
BEGIN:STANDARD
DTSTART:20201025T020000
TZOFFSETFROM:+0200
TZOFFSETTO:+0100
TZNAME:CET
END:STANDARD
BEGIN:DAYLIGHT
DTSTART:20210328T030000
TZOFFSETFROM:+0100
TZOFFSETTO:+0200
TZNAME:CEST
END:DAYLIGHT
BEGIN:STANDARD
DTSTART:20211031T020000
TZOFFSETFROM:+0200
TZOFFSETTO:+0100
TZNAME:CET
END:STANDARD
BEGIN:DAYLIGHT
DTSTART:20220327T030000
TZOFFSETFROM:+0100
TZOFFSETTO:+0200
TZNAME:CEST
END:DAYLIGHT
BEGIN:STANDARD
DTSTART:20221030T020000
TZOFFSETFROM:+0200
TZOFFSETTO:+0100
TZNAME:CET
END:STANDARD
BEGIN:DAYLIGHT
DTSTART:20230326T030000
TZOFFSETFROM:+0100
TZOFFSETTO:+0200
TZNAME:CEST
END:DAYLIGHT
BEGIN:STANDARD
DTSTART:20231029T020000
TZOFFSETFROM:+0200
TZOFFSETTO:+0100
TZNAME:CET
END:STANDARD
BEGIN:DAYLIGHT
DTSTART:20240331T030000
TZOFFSETFROM:+0100
TZOFFSETTO:+0200
TZNAME:CEST
END:DAYLIGHT
END:VTIMEZONE
END:VCALENDAR